BEGIN:VCALENDAR
VERSION:2.0
PRODID: -//CMS 5.0 //NONSGML //DE
BEGIN:VEVENT
SUMMARY:Gottesdienst
DESCRIPTION:<p><span><span><span><strong><span><span><span><span><span>F
 ür Bad Windsheim und Wilhermsdorf&nbsp;ist in Neustadt-Aisch&nbsp;Gott
 esdienst !&nbsp;</span></span></span></span></span></strong></span></sp
 an></span></p>\n\n<p>&nbsp;</p>\n
UID:359176@www.nak-nuernberg.de
LOCATION:
CATEGORIES:Ansbach,Wilhermsdorf,Nürnberg-Ost,Fürth,Altdorf,Schwandorf,Roth,Nürnberg-Südwest,Bad Windsheim,Gottesdienst,Lauf/Pegnitz,Neustadt/Aisch,Weiden,Zirndorf,Cham,Amberg,Nürnberg-Mitte
X-ORGANIZER:
STATUS:CONFIRMED
CLASS:PUBLIC
DTSTART:20260322T083000Z
DTEND:20260322T083000Z
DTSTAMP:20260421T132939Z
CREATED:20260216T080007Z
LAST-MODIFIED:20260216T080934Z
END:VEVENT
BEGIN:VEVENT
SUMMARY:Gottesdienst
DESCRIPTION:
UID:359177@www.nak-nuernberg.de
LOCATION:
CATEGORIES:Nürnberg-Mitte,Amberg,Zirndorf,Lauf/Pegnitz,Gottesdienst,Roth,Fürth,Altdorf,Ansbach,Nürnberg-Ost,Schwabach
X-ORGANIZER:
STATUS:CONFIRMED
CLASS:PUBLIC
DTSTART:20260408T180000Z
DTEND:20260408T180000Z
DTSTAMP:20260421T132939Z
CREATED:20260216T080947Z
LAST-MODIFIED:20260320T123042Z
END:VEVENT
BEGIN:VEVENT
SUMMARY:Gottesdienst
DESCRIPTION:
UID:359178@www.nak-nuernberg.de
LOCATION:
CATEGORIES:Nürnberg-Südwest,Gottesdienst
X-ORGANIZER:
STATUS:CONFIRMED
CLASS:PUBLIC
DTSTART:20260326T190000Z
DTEND:20260326T190000Z
DTSTAMP:20260421T132939Z
CREATED:20260216T081316Z
LAST-MODIFIED:20260216T081323Z
END:VEVENT
BEGIN:VEVENT
SUMMARY:Gottesdienst
DESCRIPTION:<p><span><span><span><strong><span><span><span><span><span>F
 ür Neustadt-Aisch&nbsp;ist in Wilhermsdorf&nbsp;Gottesdienst !&nbsp;</
 span></span></span></span></span></strong></span></span></span></p>\n\n
 <p>&nbsp;</p>\n\n<p><span><span><span><span><span><span>In Cham&nbsp;di
 ent Bezirksvorsteher Jürgen Kleinschrodt.</span></span></span></span><
 /span></span></p>\n
UID:359179@www.nak-nuernberg.de
LOCATION:
CATEGORIES:Gottesdienst,Bad Windsheim,Altdorf,Fürth,Schwandorf,Roth,Nürnberg-Südwest,Nürnberg-Ost,Ansbach,Wilhermsdorf,Nürnberg-Mitte,Amberg,Cham,Weiden,Zirndorf,Lauf/Pegnitz,Neustadt/Aisch
X-ORGANIZER:
STATUS:CONFIRMED
CLASS:PUBLIC
DTSTART:20260329T073000Z
DTEND:20260329T073000Z
DTSTAMP:20260421T132939Z
CREATED:20260216T081342Z
LAST-MODIFIED:20260216T081502Z
END:VEVENT
BEGIN:VEVENT
SUMMARY:Gottesdienst mit Bischof Marco Metzger
DESCRIPTION:
UID:359181@www.nak-nuernberg.de
LOCATION:Roth-Schwabach
CATEGORIES:Gottesdienst,Bezirk (ohne Gemeinden)
X-ORGANIZER:
STATUS:CONFIRMED
CLASS:PUBLIC
DTSTART:20260325T190000Z
DTEND:20260325T190000Z
DTSTAMP:20260421T132939Z
CREATED:20260216T082428Z
LAST-MODIFIED:20260216T082504Z
END:VEVENT
BEGIN:VEVENT
SUMMARY:Gottesdienst am Karfreitag
DESCRIPTION:<p><span><span><span><strong><span><span><span><span><span>F
 ür Neustadt-Aisch&nbsp;ist in Wilhermsdorf&nbsp;Gottesdienst !&nbsp;</
 span></span></span></span></span></strong></span></span></span></p>\n
UID:361519@www.nak-nuernberg.de
LOCATION:
CATEGORIES:Ansbach,Wilhermsdorf,Nürnberg-Ost,Fürth,Altdorf,Schwandorf,Nürnberg-Südwest,Roth,Bad Windsheim,Gottesdienst,Lauf/Pegnitz,Neustadt/Aisch,Weiden,Zirndorf,Cham,Nürnberg-Mitte,Amberg
X-ORGANIZER:
STATUS:CONFIRMED
CLASS:PUBLIC
DTSTART:20260403T073000Z
DTEND:20260403T073000Z
DTSTAMP:20260421T132939Z
CREATED:20260320T120641Z
LAST-MODIFIED:20260320T120818Z
END:VEVENT
BEGIN:VEVENT
SUMMARY:Gottesdienst am Ostersonntag mit Bezirksapostel Michael Ehrich, 
 Übertragung aus Kempten-Süd
DESCRIPTION:
UID:361520@www.nak-nuernberg.de
LOCATION:alle Gemeinden
CATEGORIES:Bezirk (ohne Gemeinden),Gottesdienst,Bezirk (und alle Gemeinden)
X-ORGANIZER:
STATUS:CONFIRMED
CLASS:PUBLIC
DTSTART:20260405T080000Z
DTEND:20260405T080000Z
DTSTAMP:20260421T132939Z
CREATED:20260320T121330Z
LAST-MODIFIED:20260320T121810Z
END:VEVENT
BEGIN:VEVENT
SUMMARY:Gottesdienst
DESCRIPTION:<p><span><span><span><span><span><span>In Nürnberg-Südwest
 &nbsp;dient Bezirksvorsteher Jürgen Kleinschrodt.</span></span></span>
 </span></span></span></p>\n
UID:361521@www.nak-nuernberg.de
LOCATION:
CATEGORIES:Gottesdienst,Nürnberg-Südwest
X-ORGANIZER:
STATUS:CONFIRMED
CLASS:PUBLIC
DTSTART:20260409T180000Z
DTEND:20260409T180000Z
DTSTAMP:20260421T132939Z
CREATED:20260320T123100Z
LAST-MODIFIED:20260320T123138Z
END:VEVENT
BEGIN:VEVENT
SUMMARY:Gottesdienst
DESCRIPTION:<p><span><span><span><strong><span><span><span><span><span>F
 ür Neustadt-Aisch &nbsp;ist in Wilhermsdorf&nbsp;Gottesdienst !&nbsp;<
 /span></span></span></span></span></strong></span></span></span></p>\n\
 n<p>&nbsp;</p>\n\n<p><span><span><span>In Nürnberg-Ost&nbsp;dient stel
 lvertr. Bezirksvorsteher&nbsp;Jürgen Braun.</span></span></span></p>\n
 \n<p><span><span><span><span><span><span>In Cham&nbsp;dient Bezirksvors
 teher Jürgen Kleinschrodt.</span></span></span></span></span></span></
 p>\n\n<p><span><span><span>In Nürnberg-Südwest&nbsp;dient Bischof&nbs
 p;Marco&nbsp;Metzger.</span></span></span></p>\n
UID:361522@www.nak-nuernberg.de
LOCATION:
CATEGORIES:Nürnberg-Ost,Ansbach,Wilhermsdorf,Gottesdienst,Bad Windsheim,Fürth,Altdorf,Schwandorf,Roth,Nürnberg-Südwest,Neustadt/Aisch,Lauf/Pegnitz,Amberg,Nürnberg-Mitte,Cham,Zirndorf,Weiden
X-ORGANIZER:
STATUS:CONFIRMED
CLASS:PUBLIC
DTSTART:20260412T073000Z
DTEND:20260412T073000Z
DTSTAMP:20260421T132939Z
CREATED:20260320T123158Z
LAST-MODIFIED:20260320T123743Z
END:VEVENT
BEGIN:VEVENT
SUMMARY:Gottesdienst
DESCRIPTION:<p><span><span><span><strong><span><span><span><span><span>F
 ür Neustadt-Aisch &nbsp;ist in Wilhermsdorf&nbsp;Gottesdienst !&nbsp;<
 /span></span></span></span></span></strong></span></span></span></p>\n\
 n<p>&nbsp;</p>\n\n<p><span><span><span>In Roth-Schwabach&nbsp;dient ste
 llvertr. Bezirksvorsteher&nbsp;Jürgen Braun.</span></span></span></p>\
 n\n<p><span><span><span>In Wilhermsdorf&nbsp;dient Apostel Arne Herrman
 n.</span></span></span></p>\n
UID:361523@www.nak-nuernberg.de
LOCATION:
CATEGORIES:Neustadt/Aisch,Lauf/Pegnitz,Nürnberg-Mitte,Amberg,Cham,Zirndorf,Nürnberg-Ost,Ansbach,Wilhermsdorf,Schwabach,Gottesdienst,Fürth,Altdorf,Roth
X-ORGANIZER:
STATUS:CONFIRMED
CLASS:PUBLIC
DTSTART:20260415T180000Z
DTEND:20260415T180000Z
DTSTAMP:20260421T132939Z
CREATED:20260320T123759Z
LAST-MODIFIED:20260320T124004Z
END:VEVENT
BEGIN:VEVENT
SUMMARY:Gottesdienst
DESCRIPTION:
UID:361524@www.nak-nuernberg.de
LOCATION:
CATEGORIES:Gottesdienst,Nürnberg-Südwest
X-ORGANIZER:
STATUS:CONFIRMED
CLASS:PUBLIC
DTSTART:20260416T180000Z
DTEND:20260416T180000Z
DTSTAMP:20260421T132939Z
CREATED:20260320T124016Z
LAST-MODIFIED:20260320T124028Z
END:VEVENT
BEGIN:VEVENT
SUMMARY:Gottesdienst
DESCRIPTION:<p><span><span><span><strong><span><span><span><span><span>F
 ür Bad Windsheim, Neustadt-Aisch und&nbsp;Wilhermsdorf ist in Ansbach 
 Gottesdienst !&nbsp;</span></span></span></span></span></strong></span>
 </span></span></p>\n\n<p><span><span><span><strong><span><span><span><s
 pan><span>Für Cham, Schwandorf und Weiden ist in Amberg Gottesdienst !
 </span></span></span></span></span></strong></span></span></span></p>\n
 \n<p><span><span><span><strong><span><span><span><span><span>Für Nürn
 berg-Südwest und Zirndorf ist in Fürth Gottesdienst !</span></span></
 span></span></span></strong></span></span></span></p>\n\n<p>&nbsp;</p>\
 n\n<p><span><span><span>In Amberg&nbsp;dient stellvertr. Bezirksvorsteh
 er Matthias Kraft aus dem Bezirk Backnang.</span></span></span></p>\n\n
 <p><span><span><span><span><span><span>In Ansbach&nbsp;dient stellvertr
 . Bezirksvorsteher Michael Feihl aus dem Bezirk Backnang.</span></span>
 </span></span></span></span></p>\n\n<p><span><span><span>In Fürth&nbsp
 ;dient Bezirksvorsteher Oliver Digel aus dem Bezirk Backnang.</span></s
 pan></span></p>\n
UID:361525@www.nak-nuernberg.de
LOCATION:
CATEGORIES:Nürnberg-Mitte,Amberg,Cham,Weiden,Zirndorf,Neustadt/Aisch,Lauf/Pegnitz,Gottesdienst,Bad Windsheim,Roth,Schwandorf,Nürnberg-Südwest,Altdorf,Fürth,Nürnberg-Ost,Wilhermsdorf,Ansbach
X-ORGANIZER:
STATUS:CONFIRMED
CLASS:PUBLIC
DTSTART:20260419T073000Z
DTEND:20260419T073000Z
DTSTAMP:20260421T132939Z
CREATED:20260320T124142Z
LAST-MODIFIED:20260320T125107Z
END:VEVENT
BEGIN:VEVENT
SUMMARY:Gottesdienst
DESCRIPTION:<p><span><span><span>In Fürth&nbsp;dient stellvertr. Bezirk
 svorsteher&nbsp;Jürgen Braun.</span></span></span></p>\n
UID:361526@www.nak-nuernberg.de
LOCATION:
CATEGORIES:Nürnberg-Ost,Ansbach,Gottesdienst,Altdorf,Fürth,Roth,Lauf/Pegnitz,Amberg,Nürnberg-Mitte,Zirndorf
X-ORGANIZER:
STATUS:CONFIRMED
CLASS:PUBLIC
DTSTART:20260422T180000Z
DTEND:20260422T180000Z
DTSTAMP:20260421T132939Z
CREATED:20260320T125123Z
LAST-MODIFIED:20260324T152056Z
END:VEVENT
BEGIN:VEVENT
SUMMARY:Gottesdienst
DESCRIPTION:
UID:361527@www.nak-nuernberg.de
LOCATION:
CATEGORIES:Gottesdienst,Nürnberg-Südwest
X-ORGANIZER:
STATUS:CONFIRMED
CLASS:PUBLIC
DTSTART:20260423T180000Z
DTEND:20260423T180000Z
DTSTAMP:20260421T132939Z
CREATED:20260320T125436Z
LAST-MODIFIED:20260320T125449Z
END:VEVENT
BEGIN:VEVENT
SUMMARY:Gottesdienst
DESCRIPTION:<p><span><span><span>In Altdorf&nbsp;dient stellvertr. Bezir
 ksvorsteher&nbsp;Jürgen Braun.</span></span></span></p>\n\n<p><span><s
 pan><span><span><span><span>In Roth-Schwabach&nbsp;dient Bezirksvorsteh
 er Jürgen Kleinschrodt.</span></span></span></span></span></span></p>\
 n\n<p><span><span><span>In Cham&nbsp;dient Bischof&nbsp;Marco&nbsp;Metz
 ger.</span></span></span></p>\n
UID:361528@www.nak-nuernberg.de
LOCATION:
CATEGORIES:Lauf/Pegnitz,Amberg,Nürnberg-Mitte,Cham,Zirndorf,Nürnberg-Ost,Wilhermsdorf,Ansbach,Gottesdienst,Roth,Altdorf,Fürth
X-ORGANIZER:
STATUS:CONFIRMED
CLASS:PUBLIC
DTSTART:20260429T180000Z
DTEND:20260429T180000Z
DTSTAMP:20260421T132939Z
CREATED:20260320T130322Z
LAST-MODIFIED:20260320T130635Z
END:VEVENT
BEGIN:VEVENT
SUMMARY:Gottesdienst
DESCRIPTION:
UID:361531@www.nak-nuernberg.de
LOCATION:
CATEGORIES:Gottesdienst,Nürnberg-Südwest
X-ORGANIZER:
STATUS:CONFIRMED
CLASS:PUBLIC
DTSTART:20260430T180000Z
DTEND:20260430T180000Z
DTSTAMP:20260421T132939Z
CREATED:20260320T130645Z
LAST-MODIFIED:20260320T130654Z
END:VEVENT
BEGIN:VEVENT
SUMMARY:Gottesdienst
DESCRIPTION:<p><span><span><span><strong><span><span><span><span><span>F
 ür Neustadt-Aisch ist in Wilhermsdorf&nbsp;Gottesdienst !&nbsp;</span>
 </span></span></span></span></strong></span></span></span></p>\n\n<p>&n
 bsp;</p>\n\n<p><span><span><span>In Roth-Schwabach&nbsp;dient stellvert
 r. Bezirksvorsteher&nbsp;Jürgen Braun.</span></span></span></p>\n\n<p>
 <span><span><span><span><span><span>In Ansbach&nbsp;dient Bezirksvorste
 her Jürgen Kleinschrodt.</span></span></span></span></span></span></p>
 \n
UID:361532@www.nak-nuernberg.de
LOCATION:
CATEGORIES:Nürnberg-Südwest,Schwandorf,Roth,Fürth,Altdorf,Gottesdienst,Bad Windsheim,Nürnberg-Ost,Wilhermsdorf,Cham,Weiden,Zirndorf,Nürnberg-Mitte,Amberg,Neustadt/Aisch,Lauf/Pegnitz
X-ORGANIZER:
STATUS:CONFIRMED
CLASS:PUBLIC
DTSTART:20260426T073000Z
DTEND:20260426T073000Z
DTSTAMP:20260421T132939Z
CREATED:20260320T130824Z
LAST-MODIFIED:20260320T131100Z
END:VEVENT
BEGIN:VEVENT
SUMMARY:Gottesdienst mit Jugend
DESCRIPTION:<p><span><span><span><span><span><span>In Ansbach&nbsp;dient
  Bezirksvorsteher Jürgen Kleinschrodt.</span></span></span></span></sp
 an></span></p>\n
UID:361533@www.nak-nuernberg.de
LOCATION:
CATEGORIES:Gottesdienst,Bad Windsheim,Ansbach
X-ORGANIZER:
STATUS:CONFIRMED
CLASS:PUBLIC
DTSTART:20260426T090000Z
DTEND:20260426T090000Z
DTSTAMP:20260421T132939Z
CREATED:20260320T131120Z
LAST-MODIFIED:20260320T131248Z
END:VEVENT
BEGIN:VEVENT
SUMMARY:Jugendgottesdienst
DESCRIPTION:
UID:361534@www.nak-nuernberg.de
LOCATION:Ansbach
CATEGORIES:Jugend,Bezirk (ohne Gemeinden),Gottesdienst
X-ORGANIZER:
STATUS:CONFIRMED
CLASS:PUBLIC
DTSTART:20260426T090000Z
DTEND:20260426T090000Z
DTSTAMP:20260421T132939Z
CREATED:20260320T131342Z
LAST-MODIFIED:20260320T131408Z
END:VEVENT
BEGIN:VEVENT
SUMMARY:Gottesdienst mit Bischof Marco Metzger
DESCRIPTION:
UID:361535@www.nak-nuernberg.de
LOCATION:Nürnberg-Südwest
CATEGORIES:Gottesdienst,Bezirk (ohne Gemeinden)
X-ORGANIZER:
STATUS:CONFIRMED
CLASS:PUBLIC
DTSTART:20260412T073000Z
DTEND:20260412T073000Z
DTSTAMP:20260421T132939Z
CREATED:20260320T131433Z
LAST-MODIFIED:20260320T131505Z
END:VEVENT
BEGIN:VEVENT
SUMMARY:Gottesdienst mit Bischof Marco Metzger
DESCRIPTION:
UID:361536@www.nak-nuernberg.de
LOCATION:Cham
CATEGORIES:Bezirk (ohne Gemeinden),Gottesdienst
X-ORGANIZER:
STATUS:CONFIRMED
CLASS:PUBLIC
DTSTART:20260429T180000Z
DTEND:20260429T180000Z
DTSTAMP:20260421T132939Z
CREATED:20260320T131514Z
LAST-MODIFIED:20260320T131531Z
END:VEVENT
BEGIN:VEVENT
SUMMARY:Gottesdienst mit Apostel Arne Herrmann
DESCRIPTION:
UID:361537@www.nak-nuernberg.de
LOCATION:Wilhermsdorf
CATEGORIES:Gottesdienst,Bezirk (ohne Gemeinden)
X-ORGANIZER:
STATUS:CONFIRMED
CLASS:PUBLIC
DTSTART:20260415T180000Z
DTEND:20260415T180000Z
DTSTAMP:20260421T132939Z
CREATED:20260320T131553Z
LAST-MODIFIED:20260320T131617Z
END:VEVENT
BEGIN:VEVENT
SUMMARY:Gottesdienst
DESCRIPTION:<p><span><span><span><strong><span><span><span><span><span>F
 ür Cham, Schwandorf und Weiden&nbsp;ist in Amberg&nbsp;Gottesdienst !&
 nbsp;</span></span></span></span></span></strong></span></span></span><
 /p>\n\n<p>&nbsp;</p>\n\n<p><span><span><span>In Amberg dient Bezirksapo
 stelhelfer Martin Rheinberger.</span></span></span></p>\n
UID:363927@www.nak-nuernberg.de
LOCATION:
CATEGORIES:Zirndorf,Weiden,Cham,Nürnberg-Mitte,Amberg,Lauf/Pegnitz,Neustadt/Aisch,Fürth,Altdorf,Roth,Schwandorf,Nürnberg-Südwest,Bad Windsheim,Gottesdienst,Ansbach,Wilhermsdorf,Nürnberg-Ost
X-ORGANIZER:
STATUS:CONFIRMED
CLASS:PUBLIC
DTSTART:20260503T073000Z
DTEND:20260503T073000Z
DTSTAMP:20260421T132939Z
CREATED:20260420T153827Z
LAST-MODIFIED:20260420T154222Z
END:VEVENT
BEGIN:VEVENT
SUMMARY:Gottesdienst
DESCRIPTION:<p><span><span><span>In Roth-Schwabach&nbsp;dient stellvertr
 . Bezirksvorsteher&nbsp;Jürgen Braun.</span></span></span></p>\n
UID:363928@www.nak-nuernberg.de
LOCATION:
CATEGORIES:Gottesdienst,Fürth,Altdorf,Roth,Ansbach,Nürnberg-Ost,Amberg,Nürnberg-Mitte,Zirndorf,Lauf/Pegnitz
X-ORGANIZER:
STATUS:CONFIRMED
CLASS:PUBLIC
DTSTART:20260506T180000Z
DTEND:20260506T180000Z
DTSTAMP:20260421T132939Z
CREATED:20260420T154246Z
LAST-MODIFIED:20260420T154420Z
END:VEVENT
BEGIN:VEVENT
SUMMARY:Gottesdienst
DESCRIPTION:
UID:363929@www.nak-nuernberg.de
LOCATION:
CATEGORIES:Gottesdienst,Nürnberg-Südwest
X-ORGANIZER:
STATUS:CONFIRMED
CLASS:PUBLIC
DTSTART:20260507T180000Z
DTEND:20260507T180000Z
DTSTAMP:20260421T132939Z
CREATED:20260420T154443Z
LAST-MODIFIED:20260420T154459Z
END:VEVENT
BEGIN:VEVENT
SUMMARY:Gottesdienst
DESCRIPTION:<p><span><span><span><strong><span><span><span><span><span>F
 ür Bad Windsheim und Neustadt-Aisch &nbsp;ist in Wilhermsdorf&nbsp;Got
 tesdienst !&nbsp;</span></span></span></span></span></strong></span></s
 pan></span></p>\n\n<p>&nbsp;</p>\n\n<p><span><span><span><span><span><s
 pan>In Wilhermsdorf&nbsp;dient Bezirksvorsteher Jürgen Kleinschrodt.</
 span></span></span></span></span></span></p>\n\n<p><span><span><span>In
  Nürnberg-Ost&nbsp;dient Apostel Arne Herrmann.</span></span></span></
 p>\n
UID:363930@www.nak-nuernberg.de
LOCATION:
CATEGORIES:Nürnberg-Ost,Wilhermsdorf,Ansbach,Roth,Schwandorf,Nürnberg-Südwest,Altdorf,Fürth,Gottesdienst,Bad Windsheim,Lauf/Pegnitz,Neustadt/Aisch,Cham,Weiden,Zirndorf,Amberg,Nürnberg-Mitte
X-ORGANIZER:
STATUS:CONFIRMED
CLASS:PUBLIC
DTSTART:20260510T073000Z
DTEND:20260510T073000Z
DTSTAMP:20260421T132939Z
CREATED:20260420T154512Z
LAST-MODIFIED:20260420T154741Z
END:VEVENT
BEGIN:VEVENT
SUMMARY:Gottesdienst an Christi Himmelfahrt (Mittwoch KEIN Gottesdienst!
 )
DESCRIPTION:<p><span><span><span><strong><span><span><span><span><span>F
 ür Neustadt-Aisch&nbsp;ist in Wilhermsdorf Gottesdienst !&nbsp;</span>
 </span></span></span></span></strong></span></span></span></p>\n\n<p>&n
 bsp;</p>\n\n<p><span><span><span>In Roth-Schwabach&nbsp;dient stellvert
 r. Bezirksvorsteher&nbsp;Jürgen Braun.</span></span></span></p>\n\n<p>
 <span><span><span><span><span><span>In Schwandorf&nbsp;dient Bezirksvor
 steher Jürgen Kleinschrodt.</span></span></span></span></span></span><
 /p>\n
UID:363931@www.nak-nuernberg.de
LOCATION:
CATEGORIES:Neustadt/Aisch,Lauf/Pegnitz,Weiden,Zirndorf,Cham,Amberg,Nürnberg-Mitte,Ansbach,Wilhermsdorf,Nürnberg-Ost,Altdorf,Fürth,Nürnberg-Südwest,Schwandorf,Roth,Gottesdienst,Bad Windsheim
X-ORGANIZER:
STATUS:CONFIRMED
CLASS:PUBLIC
DTSTART:20260514T073000Z
DTEND:20260514T073000Z
DTSTAMP:20260421T132939Z
CREATED:20260420T154930Z
LAST-MODIFIED:20260420T155959Z
END:VEVENT
BEGIN:VEVENT
SUMMARY:Gottesdienst
DESCRIPTION:<p><span><span><span><strong><span><span><span><span><span>F
 ür Bad Windsheim,&nbsp;Neustadt-Aisch und&nbsp;Wilhermsdorf&nbsp;ist i
 n Ansbach&nbsp;Gottesdienst !&nbsp;</span></span></span></span></span><
 /strong></span></span></span></p>\n\n<p>&nbsp;</p>\n\n<p><span><span><s
 pan>In Cham&nbsp;dient stellvertr. Bezirksvorsteher&nbsp;Jürgen Braun.
 </span></span></span></p>\n\n<p><span><span><span>In Ansbach&nbsp;dient
  Bischof&nbsp;Marco&nbsp;Metzger.</span></span></span></p>\n
UID:363932@www.nak-nuernberg.de
LOCATION:
CATEGORIES:Nürnberg-Ost,Wilhermsdorf,Ansbach,Schwandorf,Roth,Nürnberg-Südwest,Fürth,Altdorf,Gottesdienst,Bad Windsheim,Lauf/Pegnitz,Neustadt/Aisch,Cham,Weiden,Zirndorf,Nürnberg-Mitte,Amberg
X-ORGANIZER:
STATUS:CONFIRMED
CLASS:PUBLIC
DTSTART:20260517T073000Z
DTEND:20260517T073000Z
DTSTAMP:20260421T132939Z
CREATED:20260420T155358Z
LAST-MODIFIED:20260420T155707Z
END:VEVENT
BEGIN:VEVENT
SUMMARY:Gottesdienst
DESCRIPTION:<p><span><span><span>In Roth-Schwabach&nbsp;dient stellvertr
 . Bezirksvorsteher&nbsp;Jürgen Braun.</span></span></span></p>\n\n<p><
 span><span><span><span><span><span>In Nürnberg-Ost&nbsp;dient Bezirksv
 orsteher Jürgen Kleinschrodt.</span></span></span></span></span></span
 ></p>\n
UID:363933@www.nak-nuernberg.de
LOCATION:
CATEGORIES:Roth,Fürth,Altdorf,Gottesdienst,Ansbach,Nürnberg-Ost,Zirndorf,Amberg,Nürnberg-Mitte,Lauf/Pegnitz
X-ORGANIZER:
STATUS:CONFIRMED
CLASS:PUBLIC
DTSTART:20260520T180000Z
DTEND:20260520T180000Z
DTSTAMP:20260421T132939Z
CREATED:20260420T160017Z
LAST-MODIFIED:20260420T160156Z
END:VEVENT
BEGIN:VEVENT
SUMMARY:Gottesdienst
DESCRIPTION:
UID:363934@www.nak-nuernberg.de
LOCATION:
CATEGORIES:Nürnberg-Südwest,Gottesdienst
X-ORGANIZER:
STATUS:CONFIRMED
CLASS:PUBLIC
DTSTART:20260521T180000Z
DTEND:20260521T180000Z
DTSTAMP:20260421T132939Z
CREATED:20260420T160213Z
LAST-MODIFIED:20260420T160227Z
END:VEVENT
BEGIN:VEVENT
SUMMARY:Gottesdienst
DESCRIPTION:<p><span><span><span><span><span><span>In Altdorf&nbsp;dient
  Bezirksvorsteher Jürgen Kleinschrodt.</span></span></span></span></sp
 an></span></p>\n
UID:363935@www.nak-nuernberg.de
LOCATION:
CATEGORIES:Ansbach,Nürnberg-Ost,Altdorf,Fürth,Roth,Gottesdienst,Lauf/Pegnitz,Zirndorf,Cham,Amberg,Nürnberg-Mitte
X-ORGANIZER:
STATUS:CONFIRMED
CLASS:PUBLIC
DTSTART:20260527T180000Z
DTEND:20260527T180000Z
DTSTAMP:20260421T132939Z
CREATED:20260420T160356Z
LAST-MODIFIED:20260420T160447Z
END:VEVENT
BEGIN:VEVENT
SUMMARY:Gottesdienst
DESCRIPTION:
UID:363936@www.nak-nuernberg.de
LOCATION:
CATEGORIES:Gottesdienst,Nürnberg-Südwest
X-ORGANIZER:
STATUS:CONFIRMED
CLASS:PUBLIC
DTSTART:20260528T180000Z
DTEND:20260528T180000Z
DTSTAMP:20260421T132939Z
CREATED:20260420T160458Z
LAST-MODIFIED:20260420T160513Z
END:VEVENT
BEGIN:VEVENT
SUMMARY:Gottesdienst
DESCRIPTION:<p><span><span><span><strong><span><span><span><span><span>F
 ür Wilhermsdorf&nbsp;ist in Neustadt-Aisch&nbsp;Gottesdienst !&nbsp;</
 span></span></span></span></span></strong></span></span></span></p>\n\n
 <p>&nbsp;</p>\n\n<p><span><span><span>In Roth-Schwabach&nbsp;dient stel
 lvertr. Bezirksvorsteher&nbsp;Jürgen Braun.</span></span></span></p>\n
 \n<p><span><span><span><span><span><span>In Fürth&nbsp;dient Bezirksvo
 rsteher Jürgen Kleinschrodt.</span></span></span></span></span></span>
 </p>\n
UID:363937@www.nak-nuernberg.de
LOCATION:
CATEGORIES:Ansbach,Wilhermsdorf,Nürnberg-Ost,Bad Windsheim,Gottesdienst,Fürth,Altdorf,Schwandorf,Nürnberg-Südwest,Roth,Lauf/Pegnitz,Neustadt/Aisch,Nürnberg-Mitte,Amberg,Weiden,Zirndorf,Cham
X-ORGANIZER:
STATUS:CONFIRMED
CLASS:PUBLIC
DTSTART:20260531T073000Z
DTEND:20260531T073000Z
DTSTAMP:20260421T132939Z
CREATED:20260420T160534Z
LAST-MODIFIED:20260420T160801Z
END:VEVENT
BEGIN:VEVENT
SUMMARY:Gottesdienst an Pfingsten mit Stammapostel Jean-Luc Schneider, 
 Übertragung aus Kapstadt-Tafelsig
DESCRIPTION:
UID:363940@www.nak-nuernberg.de
LOCATION:alle Gemeinden
CATEGORIES:Gottesdienst,Bezirk (und alle Gemeinden),Bezirk (ohne Gemeinden)
X-ORGANIZER:
STATUS:CONFIRMED
CLASS:PUBLIC
DTSTART:20260524T080000Z
DTEND:20260524T080000Z
DTSTAMP:20260421T132939Z
CREATED:20260420T160830Z
LAST-MODIFIED:20260420T160956Z
END:VEVENT
BEGIN:VEVENT
SUMMARY:Kinder-Gottesdienst mit Apostel Arne Herrmann
DESCRIPTION:
UID:363945@www.nak-nuernberg.de
LOCATION:Nürnberg-Ost
CATEGORIES:Gottesdienst,Kinder,Bezirk (ohne Gemeinden)
X-ORGANIZER:
STATUS:CONFIRMED
CLASS:PUBLIC
DTSTART:20260510T073000Z
DTEND:20260510T073000Z
DTSTAMP:20260421T132939Z
CREATED:20260420T161155Z
LAST-MODIFIED:20260420T163204Z
END:VEVENT
BEGIN:VEVENT
SUMMARY:Gottesdienst mit Bischof Marco Metzger
DESCRIPTION:<p>Es sind die Gemeinden Bad Windsheim, Neustadt-Aisch und W
 ilhermsdorf eingeladen.</p>\n
UID:363950@www.nak-nuernberg.de
LOCATION:Ansbach
CATEGORIES:Gottesdienst,Bezirk (ohne Gemeinden)
X-ORGANIZER:
STATUS:CONFIRMED
CLASS:PUBLIC
DTSTART:20260517T073000Z
DTEND:20260517T073000Z
DTSTAMP:20260421T132939Z
CREATED:20260420T161436Z
LAST-MODIFIED:20260420T162500Z
END:VEVENT
BEGIN:VEVENT
SUMMARY:Gottesdienst mit Bezirksapostelhelfer Martin Rheinberger
DESCRIPTION:<p>Es sind die Gemeinden Cham, Schwandorf&nbsp;und Weiden&nb
 sp;eingeladen.</p>\n
UID:363961@www.nak-nuernberg.de
LOCATION:Amberg
CATEGORIES:Bezirk (ohne Gemeinden),Gottesdienst
X-ORGANIZER:
STATUS:CONFIRMED
CLASS:PUBLIC
DTSTART:20260503T073000Z
DTEND:20260503T073000Z
DTSTAMP:20260421T132939Z
CREATED:20260420T162203Z
LAST-MODIFIED:20260420T162344Z
END:VEVENT
END:VCALENDAR
